BEGIN:VCALENDAR
VERSION:2.0
PRODID:-//ChamberMaster//Event Calendar 2.0//EN
METHOD:PUBLISH
X-PUBLISHED-TTL:P3D
REFRESH-INTERVAL:P3D
CALSCALE:GREGORIAN
BEGIN:VEVENT
DTSTART:20200721T183000Z
DTEND:20200721T193000Z
X-MICROSOFT-CDO-ALLDAYEVENT:FALSE
SUMMARY:I WILL: BALANCE Women In Leadership Webinar Series
DESCRIPTION:Women in Leadership meets on a monthly basis to meet the needs and enhance the development of women on their professional journey.\n\n \nSelf Care for Success\nHave you ever wondered how it is possible to run your business\, maintain your personal life\, and make time to stay healthy? As a busy professional\, maintaining your energy levels\, managing your stress\, having mental clarity\, and being pain free are essential to running a successful business. Feel vibrant and healthy in your body\, starting today. \n\n \n\nSpeaker: Dr Yasaman Tasslloti\n\nhttps://us02web.zoom.us/j/82447850159?pwd=Z1RvNk5QbXF1NmF1eWI3WVROMmhodz09\n\nMeeting ID: 824 4785 0159\n\nPassword: Balance
X-ALT-DESC;FMTTYPE=text/html:<span style="font-size: 16px\;"><span style="font-family: arial\;"><span style="color: rgb(0\, 0\, 0)\;">Women in Leadership meets on a monthly basis to meet the needs and enhance the development of women on their professional journey.</span></span></span><br />\n&nbsp\;\n<div><span style="font-family: &quot\;Open Sans&quot\;\, &quot\;Helvetica Arial&quot\;\, sans-serif\; font-size: 100%\; background-color: rgb(255\, 255\, 255)\; font-variant-numeric: normal\; font-variant-east-asian: normal\;">Self Care for Success</span></div>\n<span style="font-family: &quot\;Open Sans&quot\;\, &quot\;Helvetica Arial&quot\;\, sans-serif\; font-size: 100%\; background-color: rgb(255\, 255\, 255)\; font-variant-numeric: normal\; font-variant-east-asian: normal\;">Have you ever wondered how it is possible to run your business\, maintain your personal life\, and make time to stay healthy? As a busy professional\, maintaining your energy levels\, managing your stress\, having mental clarity\, and being pain free are essential to running a successful business. Feel vibrant and healthy in your body\, starting today.&nbsp\;</span>\n\n<div>&nbsp\;</div>\n\n<div><font face="Open Sans\, Helvetica Arial\, sans-serif"><span style="background-color: rgb(255\, 255\, 255)\;">Speaker: Dr Yasaman Tasslloti</span></font><br />\n<a href="https://us02web.zoom.us/j/82447850159?pwd=Z1RvNk5QbXF1NmF1eWI3WVROMmhodz09">https://us02web.zoom.us/j/82447850159?pwd=Z1RvNk5QbXF1NmF1eWI3WVROMmhodz09</a><br />\n<strong>Meeting ID: 824 4785 0159<br />\nPassword: Balance</strong><br />\n&nbsp\;</div>\n
LOCATION:ZOOM MEETING WEAR YOUR BEST HAWAIIAN GEAR!
UID:e.1561.36326
SEQUENCE:3
DTSTAMP:20260424T194601Z
URL:https://business.chandlerchamber.com/events/details/i-will-balance-women-in-leadership-webinar-series-36326
END:VEVENT

END:VCALENDAR
