BEGIN:VCALENDAR
VERSION:2.0
PRODID:-//ChamberMaster//Event Calendar 2.0//EN
METHOD:PUBLISH
X-PUBLISHED-TTL:P3D
REFRESH-INTERVAL:P3D
CALSCALE:GREGORIAN
BEGIN:VEVENT
DTSTART:20200818T183000Z
DTEND:20200818T193000Z
X-MICROSOFT-CDO-ALLDAYEVENT:FALSE
SUMMARY:"I WILL" Influence Women In Leadership Webinar
DESCRIPTION:Women in Leadership meets on a monthly basis to meet the needs and enhance the development of women on their professional journey.\n\n\n\nCome join us as we hear from a local Instagram Influencer\, Demi Bang! She will share tips and tricks on how to effectively brand your ideas\, concepts and products in the best possible way!\n\nWant to get your business name out there? Donate a raffle prize for our event! Please email mia@chandlerchamber.com for more information. \n\nJoin Zoom Meeting\n\nhttps://us02web.zoom.us/j/83018872084?pwd=YzZURFpjb24vdXZCaWFDRmlGbjh6UT09\n\n\n\nMeeting ID: 830 1887 2084\n\nPasscode: Influence
X-ALT-DESC;FMTTYPE=text/html:<span style="font-size: 16px\;"><span style="font-family: arial\;"><span style="color: rgb(0\, 0\, 0)\;">Women in Leadership meets on a monthly basis to meet the needs and enhance the development of women on their professional journey.<br />\n<br />\nCome join us as we hear from a local Instagram Influencer\, Demi Bang! She will share tips and tricks on how to effectively brand your ideas\, concepts and products in the best possible way!</span></span></span><br />\nWant to get your business name out there? Donate a raffle prize for our event! Please email mia@chandlerchamber.com for more information.&nbsp\;<br />\nJoin Zoom Meeting<br />\nhttps://us02web.zoom.us/j/83018872084?pwd=YzZURFpjb24vdXZCaWFDRmlGbjh6UT09<br />\n<br />\nMeeting ID: 830 1887 2084<br />\nPasscode: Influence<br />\n&nbsp\;
LOCATION:ZOOM Meeting
UID:e.1561.36327
SEQUENCE:3
DTSTAMP:20260424T211712Z
URL:https://business.chandlerchamber.com/events/details/i-will-influence-women-in-leadership-webinar-36327
END:VEVENT

END:VCALENDAR
