BEGIN:VCALENDAR
VERSION:2.0
PRODID:-//ChamberMaster//Event Calendar 2.0//EN
METHOD:PUBLISH
X-PUBLISHED-TTL:P3D
REFRESH-INTERVAL:P3D
CALSCALE:GREGORIAN
BEGIN:VEVENT
DTSTART:20190629T180000Z
DTEND:20190629T210000Z
X-MICROSOFT-CDO-ALLDAYEVENT:FALSE
SUMMARY:In The Exhibits
DESCRIPTION:In the Exhibits- Dive in to activities right in the middle of our exhibit hall great for ages 6-12 free
X-ALT-DESC;FMTTYPE=text/html:In the Exhibits- Dive in to activities right in the middle of our exhibit hall great for ages 6-12 free
LOCATION:Chandler Museum
UID:e.1561.36726
SEQUENCE:3
DTSTAMP:20260423T003653Z
URL:https://business.chandlerchamber.com/events/details/in-the-exhibits-36726
END:VEVENT

END:VCALENDAR
