BEGIN:VCALENDAR
VERSION:2.0
PRODID:-//ChamberMaster//Event Calendar 2.0//EN
METHOD:PUBLISH
X-PUBLISHED-TTL:P3D
REFRESH-INTERVAL:P3D
CALSCALE:GREGORIAN
BEGIN:VEVENT
DTSTART:20230114T180000Z
DTEND:20230114T210000Z
X-MICROSOFT-CDO-ALLDAYEVENT:FALSE
SUMMARY:In the Exhibits: If I were President…
DESCRIPTION:Think kids and museums don't mesh? Think again! In the Exhibits immerses kids in interactive activities throughout the museum's exhibits. Kids will participate in activities throughout the exhibit and gain deeper insights into the display. Drop in anytime from 11am-2pm and expect the museum to be bustling with energy and fun. Running for president includes a lot of decisions\, one being the design of the campaign poster. Come view the collection of past political posters that helped sway public opinion and capture presidential campaigns. Then join in on creating your own poster and have fun with other presidential activities. Register and drop in anytime between 11am and 2pm. Eventbrite Link: https://www.eventbrite.com/e/in-the-exhibits-if-i-were-president-tickets-480502153877
X-ALT-DESC;FMTTYPE=text/html:Think kids and museums don&rsquo\;t mesh? Think again! In the Exhibits immerses kids in interactive activities throughout the museum&rsquo\;s exhibits. Kids will participate in activities throughout the exhibit and gain deeper insights into the display. Drop in anytime from 11am-2pm and expect the museum to be bustling with energy and fun. Running for president includes a lot of decisions\, one being the design of the campaign poster. Come view the collection of past political posters that helped sway public opinion and capture presidential campaigns. Then join in on creating your own poster and have fun with other presidential activities. Register and drop in anytime between 11am and 2pm. Eventbrite Link: https://www.eventbrite.com/e/in-the-exhibits-if-i-were-president-tickets-480502153877
LOCATION:Chandler Museum 300 S. Chandler Village Drive Chandler\, Arizona 85226
UID:e.1561.44591
SEQUENCE:3
DTSTAMP:20260420T220358Z
URL:https://business.chandlerchamber.com/events/details/in-the-exhibits-if-i-were-president-44591
END:VEVENT

END:VCALENDAR
