BEGIN:VCALENDAR
VERSION:2.0
PRODID:-//ChamberMaster//Event Calendar 2.0//EN
METHOD:PUBLISH
X-PUBLISHED-TTL:P3D
REFRESH-INTERVAL:P3D
CALSCALE:GREGORIAN
BEGIN:VEVENT
DTSTART:20191001T170000Z
DTEND:20191014T000000Z
X-MICROSOFT-CDO-ALLDAYEVENT:FALSE
SUMMARY:Inspired by History
DESCRIPTION:Our everyday objects may not be so ordinary when seen through the eyes of an artist. Using abstraction\, manipulation and interpretation\, local emerging and mid-career artists created works in response to objects from the Chandler Museum artifact collection. The exhibit considers memory\, continuity\, and change over time through art works that explore the connections between people and objects. This is a collaborative exhibition with City of Chandler's Vision Gallery.
X-ALT-DESC;FMTTYPE=text/html:Our everyday objects may not be so ordinary when seen through the eyes of an artist. Using abstraction\, manipulation and interpretation\, local emerging and mid-career artists created works in response to objects from the Chandler Museum artifact collection. The exhibit considers memory\, continuity\, and change over time through art works that explore the connections between people and objects. This is a collaborative exhibition with City of Chandler&rsquo\;s Vision Gallery.
LOCATION:Chandler Museum
UID:e.1561.36908
SEQUENCE:3
DTSTAMP:20260422T201721Z
URL:https://business.chandlerchamber.com/events/details/inspired-by-history-36908
END:VEVENT

END:VCALENDAR
