BEGIN:VCALENDAR
VERSION:2.0
PRODID:-//ChamberMaster//Event Calendar 2.0//EN
METHOD:PUBLISH
X-PUBLISHED-TTL:P3D
REFRESH-INTERVAL:P3D
CALSCALE:GREGORIAN
BEGIN:VEVENT
DTSTART;VALUE=DATE:20180415
DTEND;VALUE=DATE:20180416
TRANSP:TRANSPARENT
X-MICROSOFT-CDO-ALLDAYEVENT:TRUE
SUMMARY:Internet Appreciation Day
DESCRIPTION:We're celebrating the beginning of the internet and the founding of Mosaic\, Netscape and Apache. Celebrate the birth of the internet with your own website hosted with HostGator!
X-ALT-DESC;FMTTYPE=text/html:We&rsquo\;re celebrating the beginning of the internet and the founding of Mosaic\, Netscape and Apache. Celebrate the birth of the internet with your own website hosted with HostGator!
LOCATION:https://www.hostgator.com/
UID:e.1561.32568
SEQUENCE:3
DTSTAMP:20260423T193020Z
URL:https://business.chandlerchamber.com/events/details/internet-appreciation-day-32568
END:VEVENT

END:VCALENDAR
