BEGIN:VCALENDAR
VERSION:2.0
PRODID:-//ChamberMaster//Event Calendar 2.0//EN
METHOD:PUBLISH
X-PUBLISHED-TTL:P3D
REFRESH-INTERVAL:P3D
CALSCALE:GREGORIAN
BEGIN:VEVENT
DTSTART:20201007T150000Z
DTEND:20201007T190000Z
X-MICROSOFT-CDO-ALLDAYEVENT:FALSE
SUMMARY:Isola Outdoor Hiring Event
DESCRIPTION:Isola Outdoor Hiring Event (Manufacturing Plant) If you're looking for a new career and think you would be a good fit for the roles below\, we'd like to talk to you! Date: October 7th\, 2020 Event Time: 8:00 am to Noon Location: 6565 W Frye Rd\, Chandler AZ 85226 Open Roles: Operators\, QA Techs\, Packers\, Scheduler\, Shipping Clerk and Receiving Clerk Isola careers page: https://www.isola-group.com/career_opportunities/ Masks are required and we will be practicing social distancing. If you're uncomfortable attending the event please email heather.kitsko@isola-group.com directly and include your resume. If you meet the qualifications we will schedule a phone interview.
X-ALT-DESC;FMTTYPE=text/html:Isola Outdoor Hiring Event (Manufacturing Plant) If you&#39\;re looking for a new career and think you would be a good fit for the roles below\, we&#39\;d like to talk to you! Date: October 7th\, 2020 Event Time: 8:00 am to Noon Location: 6565 W Frye Rd\, Chandler AZ 85226 Open Roles: Operators\, QA Techs\, Packers\, Scheduler\, Shipping Clerk and Receiving Clerk Isola careers page:&nbsp\;https://www.isola-group.com/career_opportunities/ Masks are required and we will be practicing social distancing. If you&#39\;re uncomfortable attending the event please email heather.kitsko@isola-group.com directly and include your resume. If you meet the qualifications we will schedule a phone interview.
LOCATION:6565 W Frye Rd Chandler\, AZ 85226
UID:e.1561.39293
SEQUENCE:3
DTSTAMP:20260425T002552Z
URL:https://business.chandlerchamber.com/events/details/isola-outdoor-hiring-event-39293
END:VEVENT

END:VCALENDAR
