BEGIN:VCALENDAR
VERSION:2.0
PRODID:-//ChamberMaster//Event Calendar 2.0//EN
METHOD:PUBLISH
X-PUBLISHED-TTL:P3D
REFRESH-INTERVAL:P3D
CALSCALE:GREGORIAN
BEGIN:VEVENT
DTSTART:20180117T180000Z
DTEND:20180117T200000Z
X-MICROSOFT-CDO-ALLDAYEVENT:FALSE
SUMMARY:It's Not Just About Writing
DESCRIPTION:"IT'S NOT JUST ABOUT WRITING!" Jacquelyn Ahrenberg\, CFRE The Rayvan Group Is your organization in the grant cycle? Are you wondering how to even participate in grant funding? There is a lot more to the process than filling out paperwork. Jacquelyn Ahrenberg\, CFRE of The Rayvan Group will lead you through the topic of grants and provide helpful tips for being successful generating funds for your organization. This workshop covers: 1. The process of researching available grants 2. Structures for writing grants including the time required to complete an application 3. Establishing relationships and determining the best fits for grantors and grantees 4. How to work with an outside consultant or bring the professional process of grant writing in-house 5. How grants are actually processed and managed by funders
X-ALT-DESC;FMTTYPE=text/html:&ldquo\;IT&rsquo\;S NOT JUST ABOUT WRITING!&rdquo\; Jacquelyn Ahrenberg\, CFRE The Rayvan Group Is your organization in the grant cycle? Are you wondering how to even participate in grant funding? There is a lot more to the process than filling out paperwork. Jacquelyn Ahrenberg\, CFRE of The Rayvan Group will lead you through the topic of grants and provide helpful tips for being successful generating funds for your organization. This workshop covers: 1. The process of researching available grants 2. Structures for writing grants including the time required to complete an application 3. Establishing relationships and determining the best fits for grantors and grantees 4. How to work with an outside consultant or bring the professional process of grant writing in-house 5. How grants are actually processed and managed by funders
LOCATION:Meeting Location: Chandler Police substation\, 251 Desert Breeze Blvd\, Chandler\, AZ 85226. The station is just off of Chandler Blvd between Rural Rd and McClintock. There is a traffic light at Desert Breeze Blvd. Go north on Desert Breeze\, Police/Fire station will be on your right. Look for the "Collaborating for a Cause" sign at the public parking entrance. Contact phone: 480-861-5185
UID:e.1561.20704
SEQUENCE:3
DTSTAMP:20260423T232954Z
URL:https://business.chandlerchamber.com/events/details/it-s-not-just-about-writing-20704
END:VEVENT

END:VCALENDAR
