BEGIN:VCALENDAR
VERSION:2.0
PRODID:-//ChamberMaster//Event Calendar 2.0//EN
METHOD:PUBLISH
X-PUBLISHED-TTL:P3D
REFRESH-INTERVAL:P3D
CALSCALE:GREGORIAN
BEGIN:VEVENT
DTSTART:20180426T160000Z
DTEND:20180426T220000Z
X-MICROSOFT-CDO-ALLDAYEVENT:FALSE
SUMMARY:Job Fair
DESCRIPTION:Earnhardt Ford in Chandler is now hiring and has many positions available! If you want to work for the largest and most stable auto dealer in Arizona\, join us for our face-to-face hiring event.
X-ALT-DESC;FMTTYPE=text/html:Earnhardt Ford in Chandler is now hiring and has many positions available! If you want to work for the largest and most stable auto dealer in Arizona\, join us for our face-to-face hiring event.
LOCATION:Earnhardt Ford 7300 W. Orchid Lane Chandler\, AZ 85226 (NE corner I-10 and Ray Road)
UID:e.1561.33642
SEQUENCE:3
DTSTAMP:20260423T193214Z
URL:https://business.chandlerchamber.com/events/details/job-fair-04-26-2018-33642
END:VEVENT

END:VCALENDAR
