BEGIN:VCALENDAR
VERSION:2.0
PRODID:-//ChamberMaster//Event Calendar 2.0//EN
METHOD:PUBLISH
X-PUBLISHED-TTL:P3D
REFRESH-INTERVAL:P3D
CALSCALE:GREGORIAN
BEGIN:VEVENT
DTSTART:20170722T023000Z
DTEND:20170722T050000Z
X-MICROSOFT-CDO-ALLDAYEVENT:FALSE
SUMMARY:Jonny Lang
DESCRIPTION:Sixteen years ago\, at the age of 16\, Jonny Lang found incredible success with the release of his major label debut album Lie To Me. Fame does not seem to have impacted him from being the same country farm boy from Fargo\, ND who got his start in the local clubs of Minneapolis. He's shared the stage with The Rolling Stones\, B.B. King\, Aerosmith\, Sting and Buddy Guy\, who he continues to tour with today.
X-ALT-DESC;FMTTYPE=text/html:Sixteen years ago\, at the age of 16\, Jonny Lang found incredible success with the release of his major label debut album Lie To Me. Fame does not seem to have impacted him from being the same country farm boy from Fargo\, ND who got his start in the local clubs of Minneapolis. He&#39\;s shared the stage with The Rolling Stones\, B.B. King\, Aerosmith\, Sting and Buddy Guy\, who he continues to tour with today.
LOCATION:Chandler Center For The Arts 250 N Arizona Ave\, Chandler\, AZ 85225
UID:e.1561.17838
SEQUENCE:3
DTSTAMP:20260424T075930Z
URL:https://business.chandlerchamber.com/events/details/jonny-lang-17838
END:VEVENT

END:VCALENDAR
