BEGIN:VCALENDAR
VERSION:2.0
PRODID:-//ChamberMaster//Event Calendar 2.0//EN
METHOD:PUBLISH
X-PUBLISHED-TTL:P3D
REFRESH-INTERVAL:P3D
CALSCALE:GREGORIAN
BEGIN:VEVENT
DTSTART:20250816T023000Z
DTEND:20250816T053000Z
X-MICROSOFT-CDO-ALLDAYEVENT:FALSE
SUMMARY:Josh Turner
DESCRIPTION:With his deep\, unmistakable baritone and chart-topping hits\, Josh Turner is one of country music's most beloved voices. Known for classics like "Your Man\," "Would You Go with Me\," and "Long Black Train\," Turner blends traditional country with modern storytelling\, captivating audiences with his rich vocals and heartfelt lyrics. A GRAMMY-nominated artist with multiple platinum albums\, he continues to bring his signature sound to fans across the country. Don't miss the chance to experience Josh Turner live!
X-ALT-DESC;FMTTYPE=text/html:With his deep\, unmistakable baritone and chart-topping hits\, Josh Turner is one of country music&rsquo\;s most beloved voices. Known for classics like &ldquo\;Your Man\,&rdquo\; &ldquo\;Would You Go with Me\,&rdquo\; and &ldquo\;Long Black Train\,&rdquo\; Turner blends traditional country with modern storytelling\, captivating audiences with his rich vocals and heartfelt lyrics. A GRAMMY-nominated artist with multiple platinum albums\, he continues to bring his signature sound to fans across the country. Don&rsquo\;t miss the chance to experience Josh Turner live!
LOCATION:Chander Center for the Arts 250 N Arizona Ave.
UID:e.1561.51746
SEQUENCE:3
DTSTAMP:20260424T121423Z
URL:https://business.chandlerchamber.com/events/details/josh-turner-51746
END:VEVENT

END:VCALENDAR
