BEGIN:VCALENDAR
VERSION:2.0
PRODID:-//ChamberMaster//Event Calendar 2.0//EN
METHOD:PUBLISH
X-PUBLISHED-TTL:P3D
REFRESH-INTERVAL:P3D
CALSCALE:GREGORIAN
BEGIN:VEVENT
DTSTART:20171109T170000Z
DTEND:20180106T000000Z
X-MICROSOFT-CDO-ALLDAYEVENT:FALSE
SUMMARY:Josiah Copley: Creature a Day
DESCRIPTION:Josiah Copley: Creature a Day November 9\, 2017   January 5\, 2018 Inspired by Japanese kaiju toys\, cartoons and video games\, Josiah Copley started drawing some of the wildest and weirdest creatures\, robots\, monsters and aliens he could imagine every day for more than two and a half years. Visitors to the exhibition can immerse themselves in the colorful world of creatures dreamed up by this artist who helps other artists realize their dreams as a consultant at Chandler's TechShop. Join the Vision Gallery for a reception with the artist on Thursday\, November 16\, 6   8 p.m. Vision Gallery is located at 10 E. Chicago St.\, Chandler\, Monday through Friday\, 10 a.m.   5 p.m.\, and Saturday\, 10 a.m.   4 p.m. And\, as always\, exhibits are free for the public to see. Visit www.visiongallery.org for more on the Gallery and this exhibition.
X-ALT-DESC;FMTTYPE=text/html:Josiah Copley: Creature a Day November 9\, 2017 &ndash\; January 5\, 2018 Inspired by Japanese kaiju toys\, cartoons and video games\, Josiah Copley started drawing some of the wildest and weirdest creatures\, robots\, monsters and aliens he could imagine every day for more than two and a half years. Visitors to the exhibition can immerse themselves in the colorful world of creatures dreamed up by this artist who helps other artists realize their dreams as a consultant at Chandler&rsquo\;s TechShop. Join the Vision Gallery for a reception with the artist on Thursday\, November 16\, 6 &ndash\; 8 p.m. Vision Gallery is located at 10 E. Chicago St.\, Chandler\, Monday through Friday\, 10 a.m. &ndash\; 5 p.m.\, and Saturday\, 10 a.m. &ndash\; 4 p.m. And\, as always\, exhibits are free for the public to see. Visit www.visiongallery.org for more on the Gallery and this exhibition.
LOCATION:Vision Gallery 10 E. Chicago St.\, Chandler\, AZ
UID:e.1561.19615
SEQUENCE:3
DTSTAMP:20260423T233001Z
URL:https://business.chandlerchamber.com/events/details/josiah-copley-creature-a-day-19615
END:VEVENT

END:VCALENDAR
