BEGIN:VCALENDAR
VERSION:2.0
PRODID:-//ChamberMaster//Event Calendar 2.0//EN
METHOD:PUBLISH
X-PUBLISHED-TTL:P3D
REFRESH-INTERVAL:P3D
CALSCALE:GREGORIAN
BEGIN:VEVENT
DTSTART:20260208T023000Z
DTEND:20260208T050000Z
X-MICROSOFT-CDO-ALLDAYEVENT:FALSE
SUMMARY:Joss Stone
DESCRIPTION:GRAMMY-winning soul powerhouse Joss Stone delivers a performance that's musically rich and full of character. Her voice flows between smooth and gritty\, bringing energy and ease to every song. Backed by a band of world-class musicians\, she fuses soul\, blues\, and R&B into a sound that's both timeless and fresh with hits like "Tell Me 'Bout It\," "You Had Me\," and "Right to Be Wrong." Her unique artistry and deep-rooted passion for the genre will leave you mesmerized.
X-ALT-DESC;FMTTYPE=text/html:GRAMMY-winning soul powerhouse Joss Stone delivers a performance that&rsquo\;s musically rich and full of character. Her voice flows between smooth and gritty\, bringing energy and ease to every song. Backed by a band of world-class musicians\, she fuses soul\, blues\, and R&amp\;B into a sound that&rsquo\;s both timeless and fresh with hits like &ldquo\;Tell Me &lsquo\;Bout It\,&rdquo\; &ldquo\;You Had Me\,&rdquo\; and &ldquo\;Right to Be Wrong.&rdquo\; Her unique artistry and deep-rooted passion for the genre will leave you mesmerized.
LOCATION:Chandler Center for the Arts 250 N Arizona Ave Chandler Az 85225
UID:e.1561.51756
SEQUENCE:3
DTSTAMP:20260424T022113Z
URL:https://business.chandlerchamber.com/events/details/joss-stone-02-07-2026-51756
END:VEVENT

END:VCALENDAR
