BEGIN:VCALENDAR
VERSION:2.0
PRODID:-//ChamberMaster//Event Calendar 2.0//EN
METHOD:PUBLISH
X-PUBLISHED-TTL:P3D
REFRESH-INTERVAL:P3D
CALSCALE:GREGORIAN
BEGIN:VEVENT
DTSTART:20170929T000000Z
DTEND:20170929T020000Z
X-MICROSOFT-CDO-ALLDAYEVENT:FALSE
SUMMARY:Junior Achievement of Arizona 60th Anniversary Open House
DESCRIPTION:Please join us at our 60th Anniversary Celebration & Annual Open House: - Hear what we've accomplished during the last six decades and what the future holds for Junior Achievement of Arizona - Learn how you can be a part of making the future vision possible! - Hear from JA students and other special guests about how JA's impact on their lives and the community - Network with other professionals\, educators & members of the community - Light hors d'oeuvres\, open bar and beverages - Take the Passport Tour through our JA BizTowns  to learn about how various industries in Arizona have changed our community during the last 60 years - Enter to win awesome raffle prizes! This event is FREE to attend! So visit https://www.jaaz.org/2017oh to register today! Registration ends on September 27\, 2017
X-ALT-DESC;FMTTYPE=text/html:Please join us at our 60th Anniversary Celebration &amp\; Annual Open House: - Hear what we&#39\;ve accomplished during the last six decades and what the future holds for Junior Achievement of Arizona - Learn how you can be a part of making the future vision possible! - Hear from JA students and other special guests about how JA&#39\;s impact on their lives and the community - Network with other professionals\, educators &amp\; members of the community - Light hors d&#39\;oeuvres\, open bar and beverages - Take the Passport Tour through our JA BizTowns&reg\; to learn about how various industries in Arizona have changed our community during the last 60 years - Enter to win awesome raffle prizes! This event is FREE to attend! So visit https://www.jaaz.org/2017oh to register today! Registration ends on September 27\, 2017
LOCATION:Junior Achievement of Arizona 636 W Southern Ave Tempe AZ 85282
UID:e.1561.19143
SEQUENCE:3
DTSTAMP:20260424T051433Z
URL:https://business.chandlerchamber.com/events/details/junior-achievement-of-arizona-60th-anniversary-open-house-19143
END:VEVENT

END:VCALENDAR
