BEGIN:VCALENDAR
VERSION:2.0
PRODID:-//ChamberMaster//Event Calendar 2.0//EN
METHOD:PUBLISH
X-PUBLISHED-TTL:P3D
REFRESH-INTERVAL:P3D
CALSCALE:GREGORIAN
BEGIN:VEVENT
DTSTART;VALUE=DATE:20180912
DTEND;VALUE=DATE:20180913
TRANSP:TRANSPARENT
X-MICROSOFT-CDO-ALLDAYEVENT:TRUE
SUMMARY:Just For You Neighbor Wednesday's
DESCRIPTION:Present proof of Arizona residency at Simon Guest Services every Wednesday to receive a complimentary Savings Passport and gift.
X-ALT-DESC;FMTTYPE=text/html:Present proof of Arizona residency at Simon Guest Services every Wednesday to receive a complimentary Savings Passport and gift.
LOCATION:Phoenix Premium Outlets
UID:e.1561.29167
SEQUENCE:3
DTSTAMP:20260423T124317Z
URL:https://business.chandlerchamber.com/events/details/just-for-you-neighbor-wednesday-s-09-12-2018-29167
END:VEVENT

END:VCALENDAR
