BEGIN:VCALENDAR
VERSION:2.0
PRODID:-//ChamberMaster//Event Calendar 2.0//EN
METHOD:PUBLISH
X-PUBLISHED-TTL:P3D
REFRESH-INTERVAL:P3D
CALSCALE:GREGORIAN
BEGIN:VEVENT
DTSTART:20220421T000000Z
DTEND:20220421T040000Z
X-MICROSOFT-CDO-ALLDAYEVENT:FALSE
SUMMARY:K-Pop Star Awura
DESCRIPTION:We are so excited to offer an event with K-POP Star Awura. Awura is currently on his 2nd North American Tour. He will do an outdoor performance at Bap and Chicken from 6:00-7:00 Wednesday April 20\, 2022 followed by a meet and greet. Chandler dance group ERA K-Pop Dancers will open the show as well as do a meet and greet following Awura's performance. We suggest guests arrive early to eat before the musical performance. This is a free event for all.
X-ALT-DESC;FMTTYPE=text/html:We are so excited to offer an event with K-POP Star Awura. Awura is currently on his 2nd North American Tour. He will do an outdoor performance at Bap and Chicken from 6:00-7:00 Wednesday April 20\, 2022 followed by a meet and greet. Chandler dance group ERA K-Pop Dancers will open the show as well as do a meet and greet following Awura&rsquo\;s performance. We suggest guests arrive early to eat before the musical performance. This is a free event for all.
LOCATION:Bap and Chicken 960 N 54th St\, Chandler AZ
UID:e.1561.40676
SEQUENCE:3
DTSTAMP:20260423T221829Z
URL:https://business.chandlerchamber.com/events/details/k-pop-star-awura-40676
END:VEVENT

END:VCALENDAR
