BEGIN:VCALENDAR
VERSION:2.0
PRODID:-//ChamberMaster//Event Calendar 2.0//EN
METHOD:PUBLISH
X-PUBLISHED-TTL:P3D
REFRESH-INTERVAL:P3D
CALSCALE:GREGORIAN
BEGIN:VEVENT
DTSTART:20190510T150000Z
DTEND:20190510T170000Z
X-MICROSOFT-CDO-ALLDAYEVENT:FALSE
SUMMARY:Kate Spade New York Expansion Grand Opening Event
DESCRIPTION:Grand Re Opening Event:\n\nSave 15% off $150 or more when you join kate spade new york's exclusive VIP early shopping event Friday\, May 10\, 2019 from 8AM-10AM in their new space located next to GUESS Factory Store.\n\nkate spade new york has been a popular shopper destination at Phoenix Premium Outlets for years and the new location will feature over 4\,000 additional square feet of your favorite apparel\, accessories and more.
X-ALT-DESC;FMTTYPE=text/html:<p><span style="font-size:16px"><span style="font-family:simoncircularpro-bold\,sans-serif">Grand Re Opening Event:</span></span></p>\n\n<p><span style="font-size:14px">Save 15% off $150 or more when you join kate spade new york&#39\;s exclusive VIP early shopping event Friday\, May 10\, 2019 from 8AM-10AM in their new space located next to GUESS Factory Store.</span></p>\n\n<p><span style="font-size:14px">kate spade new york has been&nbsp\;a popular shopper destination&nbsp\;at Phoenix Premium Outlets for years and the new location will feature over 4\,000 additional square feet of your favorite apparel\, accessories and more.</span></p>\n
LOCATION:Phoenix Premium Outlets next to GUESS Factory Store 4976 Premium Outlets Way Chandler\, AZ 85226
UID:e.1561.36706
SEQUENCE:3
DTSTAMP:20260423T021249Z
URL:https://business.chandlerchamber.com/events/details/kate-spade-new-york-expansion-grand-opening-event-36706
END:VEVENT

END:VCALENDAR
