BEGIN:VCALENDAR
VERSION:2.0
PRODID:-//ChamberMaster//Event Calendar 2.0//EN
METHOD:PUBLISH
X-PUBLISHED-TTL:P3D
REFRESH-INTERVAL:P3D
CALSCALE:GREGORIAN
BEGIN:VEVENT
DTSTART:20260101T023000Z
DTEND:20260101T050000Z
X-MICROSOFT-CDO-ALLDAYEVENT:FALSE
SUMMARY:KIRK WHALUM: SONGS OF CHANGE
DESCRIPTION:With his signature fusion of jazz\, gospel\, and R&B\, GRAMMY-winning saxophonist Kirk Whalum performs classics like "Keep On Pushing" and "Let It Be\," illustrating music's role in shaping justice\, unity\, and resilience. Featuring special guests\, this performance takes place just ahead of Martin Luther King Jr. Day\, offering a meaningful reflection on music's power to heal\, uplift\, and inspire change.
X-ALT-DESC;FMTTYPE=text/html:With his signature fusion of jazz\, gospel\, and R&amp\;B\, GRAMMY-winning saxophonist Kirk Whalum performs classics like &ldquo\;Keep On Pushing&rdquo\; and &ldquo\;Let It Be\,&rdquo\; illustrating music&rsquo\;s role in shaping justice\, unity\, and resilience. Featuring special guests\, this performance takes place just ahead of Martin Luther King Jr. Day\, offering a meaningful reflection on music&rsquo\;s power to heal\, uplift\, and inspire change.
LOCATION:CHANDLER CENTER FOR THE ARTS 250 N ARIZONA AVE CHANDLER AZ 85225
UID:e.1561.51760
SEQUENCE:3
DTSTAMP:20260424T051516Z
URL:https://business.chandlerchamber.com/events/details/kirk-whalum-songs-of-change-51760
END:VEVENT

END:VCALENDAR
