BEGIN:VCALENDAR
VERSION:2.0
PRODID:-//ChamberMaster//Event Calendar 2.0//EN
METHOD:PUBLISH
X-PUBLISHED-TTL:P3D
REFRESH-INTERVAL:P3D
CALSCALE:GREGORIAN
BEGIN:VEVENT
DTSTART:20180118T163000Z
DTEND:20180118T183000Z
X-MICROSOFT-CDO-ALLDAYEVENT:FALSE
SUMMARY:Ladies What You Need To Know About Business Finances
DESCRIPTION:Demystify the complications of business financial statements! Discover the basic financial terms & concepts that small business owners need to know. Learn how to set up your bookkeeping\, financial statements\, & metrics so you can analyze & run your business profitably. It's your business & your money\, get a grip on your profits.
X-ALT-DESC;FMTTYPE=text/html:Demystify the complications of business financial statements! Discover the basic financial terms &amp\; concepts that small business owners need to know. Learn how to set up your bookkeeping\, financial statements\, &amp\; metrics so you can analyze &amp\; run your business profitably. It&#39\;s your business &amp\; your money\, get a grip on your profits.
LOCATION:Arizona Women's Education and Entrepreneur Center 4520 N. Central Avenue 5th Floor\, Suite 550 Phoenix\, AZ\, 85012
UID:e.1561.20909
SEQUENCE:3
DTSTAMP:20260423T233539Z
URL:https://business.chandlerchamber.com/events/details/ladies-what-you-need-to-know-about-business-finances-20909
END:VEVENT

END:VCALENDAR
