BEGIN:VCALENDAR
VERSION:2.0
PRODID:-//ChamberMaster//Event Calendar 2.0//EN
METHOD:PUBLISH
X-PUBLISHED-TTL:P3D
REFRESH-INTERVAL:P3D
CALSCALE:GREGORIAN
BEGIN:VEVENT
DTSTART:20191030T010000Z
DTEND:20191030T033000Z
X-MICROSOFT-CDO-ALLDAYEVENT:FALSE
SUMMARY:Landscape for Year-Round Color
DESCRIPTION:Want to be surrounded by color year-round? Landscape plants provide color through different seasons. Learn how to compliment their function in your garden\, and fill periodic color gaps\, in fun and bright ways to keep your landscape vibrant throughout the year.
X-ALT-DESC;FMTTYPE=text/html:Want to be surrounded by color year-round? Landscape plants provide color through different seasons. Learn how to compliment their function in your garden\, and fill periodic color gaps\, in fun and bright ways to keep your landscape vibrant throughout the year.
LOCATION:ASU Chandler Innovation Center 249 E Chicago St. Chandler\, AZ 85225
UID:e.1561.36877
SEQUENCE:3
DTSTAMP:20260422T202104Z
URL:https://business.chandlerchamber.com/events/details/landscape-for-year-round-color-36877
END:VEVENT

END:VCALENDAR
