BEGIN:VCALENDAR
VERSION:2.0
PRODID:-//ChamberMaster//Event Calendar 2.0//EN
METHOD:PUBLISH
X-PUBLISHED-TTL:P3D
REFRESH-INTERVAL:P3D
CALSCALE:GREGORIAN
BEGIN:VEVENT
DTSTART:20221029T023000Z
DTEND:20221029T043000Z
X-MICROSOFT-CDO-ALLDAYEVENT:FALSE
SUMMARY:Las Cafeteras presents Hasta La Muerte
DESCRIPTION:Hasta La Muerte is an enthralling new production rooted in the Indigenous Mexican practice of celebrating life and death\, universally known as D a de Los Muertos. In honoring the ancestors who came before us\, Hasta La Muerte is a passionate\, multi-dimensional performance filled with Zapateado\, dance\, song\, altares y flores. Hasta La Muerte will feature original and new works from Las Cafeteras\, as well as inspired interpretations of traditional folk songs\, such as "La Llorona\," "La Bruja\," "La Morena." With a traditional altar on stage\, alongside mesmerizing beauty of folkloric choreography\, the Hasta La Muerte show will be a night of transcendent color and sound\, a moving invitation to travel through time\, rhythm\, and memory. "Las Cafeteras is a uniquely Angeleno mishmash of punk\, hip-hop\, beat music\, cumbia\, and rock...live\, they're magnetic." - L.A. Times Las Cafeteras is a vibrant musical fusion with a sound all their own. Their Afro-Mexican beats\, rhythms\, and rhymes deliver inspiring lyrics that document stories of a community seeking love and justice in Los Angeles. With an infectious live performance featuring a remix of sound - from rock to hip-hop to rancheras - Las Cafeteras uses English\, Spanish and Spanglish lyrics to cross musical genre borders and build bridges between different cultures.
X-ALT-DESC;FMTTYPE=text/html:Hasta La Muerte is an enthralling new production rooted in the Indigenous Mexican practice of celebrating life and death\, universally known as D&iacute\;a de Los Muertos. In honoring the ancestors who came before us\, Hasta La Muerte is a passionate\, multi-dimensional performance filled with Zapateado\, dance\, song\, altares y flores. Hasta La Muerte will feature original and new works from Las Cafeteras\, as well as inspired interpretations of traditional folk songs\, such as &ldquo\;La Llorona\,&rdquo\; &ldquo\;La Bruja\,&rdquo\; &ldquo\;La Morena.&rdquo\; With a traditional altar on stage\, alongside mesmerizing beauty of folkloric choreography\, the Hasta La Muerte show will be a night of transcendent color and sound\, a moving invitation to travel through time\, rhythm\, and memory. &ldquo\;Las Cafeteras is a uniquely Angeleno mishmash of punk\, hip-hop\, beat music\, cumbia\, and rock...live\, they&rsquo\;re magnetic.&rdquo\; - L.A. Times Las Cafeteras is a vibrant musical fusion with a sound all their own. Their Afro-Mexican beats\, rhythms\, and rhymes deliver inspiring lyrics that document stories of a community seeking love and justice in Los Angeles. With an infectious live performance featuring a remix of sound - from rock to hip-hop to rancheras - Las Cafeteras uses English\, Spanish and Spanglish lyrics to cross musical genre borders and build bridges between different cultures.
LOCATION:Chandler Center for the Arts
UID:e.1561.40694
SEQUENCE:3
DTSTAMP:20260423T191155Z
URL:https://business.chandlerchamber.com/events/details/las-cafeteras-presents-hasta-la-muerte-40694
END:VEVENT

END:VCALENDAR
