BEGIN:VCALENDAR
VERSION:2.0
PRODID:-//ChamberMaster//Event Calendar 2.0//EN
METHOD:PUBLISH
X-PUBLISHED-TTL:P3D
REFRESH-INTERVAL:P3D
CALSCALE:GREGORIAN
BEGIN:VEVENT
DTSTART:20150717T144500Z
DTEND:20150717T220000Z
X-MICROSOFT-CDO-ALLDAYEVENT:FALSE
SUMMARY:Leadership Institute
DESCRIPTION:Monthly issue day for the Leadership Institute\n\nIssue Day: Health
X-ALT-DESC;FMTTYPE=text/html:Monthly issue day for the Leadership Institute<br />\nIssue Day: Health
LOCATION:Chandler Chamber of Commerce 25 S. Arizona Place Suite 201 Chandler\, AZ 85225
UID:e.1561.11797
SEQUENCE:3
DTSTAMP:20260425T214555Z
URL:https://business.chandlerchamber.com/events/details/leadership-institute-07-17-2015-11797
END:VEVENT

END:VCALENDAR
