BEGIN:VCALENDAR
VERSION:2.0
PRODID:-//ChamberMaster//Event Calendar 2.0//EN
METHOD:PUBLISH
X-PUBLISHED-TTL:P3D
REFRESH-INTERVAL:P3D
CALSCALE:GREGORIAN
BEGIN:VEVENT
DTSTART:20190517T013000Z
DTEND:20190517T040000Z
X-MICROSOFT-CDO-ALLDAYEVENT:FALSE
SUMMARY:Learn how to Earn Additional Income Part-time
DESCRIPTION:LEARN: Why your timing is perfect to build a solid financial future In Network Marketing with NEWYOU. How to maximize the pay plan to create immediate cash-flow and build long-term residual income. How even a beginner with no experience can earn good income starting their first day. You'll have the opportunity to personally meet some of the nations top industry experts who've built multi-million-dollar businesses from home. Some have generated as much as $350 million in business worldwide.
X-ALT-DESC;FMTTYPE=text/html:LEARN: Why your timing is perfect to build a solid financial future In Network Marketing with NEWYOU. How to maximize the pay plan to create immediate cash-flow and build long-term residual income. How even a beginner with no experience can earn good income starting their first day. You&rsquo\;ll have the opportunity to personally meet some of the nations top industry experts who&rsquo\;ve built multi-million-dollar businesses from home. Some have generated as much as $350 million in business worldwide.
LOCATION:Courtyard by Marriott 920 N 54th Street\, Chandler\, AZ 85226
UID:e.1561.36713
SEQUENCE:3
DTSTAMP:20260423T020946Z
URL:https://business.chandlerchamber.com/events/details/learn-how-to-earn-additional-income-part-time-36713
END:VEVENT

END:VCALENDAR
