BEGIN:VCALENDAR
VERSION:2.0
PRODID:-//ChamberMaster//Event Calendar 2.0//EN
METHOD:PUBLISH
X-PUBLISHED-TTL:P3D
REFRESH-INTERVAL:P3D
CALSCALE:GREGORIAN
BEGIN:VEVENT
DTSTART:20190326T010000Z
DTEND:20190326T023000Z
X-MICROSOFT-CDO-ALLDAYEVENT:FALSE
SUMMARY:Lecture & Film Series: Oskar Knoblauch & Rana Singh Sodhi
DESCRIPTION:CUSD Equity Lecture and Film Series - An Evening with Mr. Oskar Knoblauch and Mr. Rana Singh Sodhi A Conversation between a Holocaust Survivor and a Sikh: Lessons About Our Shared Humanity and the Importance of Forgiveness and Redemption. Join us for our March lecture as we create a space to hear from a Holocaust Survivor and a Sikh. For it is in our suffering that we emerge as victors. Khali Gibran\, a Lebanese poet wrote\, "Out of suffering have emerged the strongest souls. The massive characters are seared with scars." In this conversation\, you will hear two people living their humanity. How do we as humans emerge from suffering? How do we forgive others who are implicated in our suffering? How do we restore the dignity of others who have failed to meet our expectations\, in the classroom\, school\, community\, and or in the larger global space? What does this mean for each one of us in the CUSD learning community?
X-ALT-DESC;FMTTYPE=text/html:CUSD Equity Lecture and Film Series - An Evening with Mr. Oskar Knoblauch and Mr. Rana Singh Sodhi A Conversation between a Holocaust Survivor and a Sikh: Lessons About Our Shared Humanity and the Importance of Forgiveness and Redemption. Join us for our March lecture as we create a space to hear from a Holocaust Survivor and a Sikh. For it is in our suffering that we emerge as victors. Khali Gibran\, a Lebanese poet wrote\, &ldquo\;Out of suffering have emerged the strongest souls. The massive characters are seared with scars.&rdquo\; In this conversation\, you will hear two people living their humanity. How do we as humans emerge from suffering? How do we forgive others who are implicated in our suffering? How do we restore the dignity of others who have failed to meet our expectations\, in the classroom\, school\, community\, and or in the larger global space? What does this mean for each one of us in the CUSD learning community?
LOCATION:Chandler Unified School District 1525 W. Frye Rd. Chandler\, AZ 85224
UID:e.1561.36633
SEQUENCE:3
DTSTAMP:20260423T045939Z
URL:https://business.chandlerchamber.com/events/details/lecture-film-series-oskar-knoblauch-rana-singh-sodhi-36633
END:VEVENT

END:VCALENDAR
