BEGIN:VCALENDAR
VERSION:2.0
PRODID:-//ChamberMaster//Event Calendar 2.0//EN
METHOD:PUBLISH
X-PUBLISHED-TTL:P3D
REFRESH-INTERVAL:P3D
CALSCALE:GREGORIAN
BEGIN:VEVENT
DTSTART:20220221T020000Z
DTEND:20220221T040000Z
X-MICROSOFT-CDO-ALLDAYEVENT:FALSE
SUMMARY:Les Ballets Trockadero de Monte Carlo
DESCRIPTION:2021/2022 Season "The best ballerinas at the moment are hairy and male."   London Spectator One of the great comic creations of the American stage\, this outrageous company of professional male dancers in drag brings their hilarious parody of classic ballet. These heavy muscular bodies delicately balance on toes as swans\, sylphs\, water sprites\, romantic princesses\, angst-ridden Victorian ladies - and surprisingly enhance the spirit of dance as an art form. The "Trocks\," as they are affectionately known\, are sure to delight and amuse in this absurd and silly night of fun.
X-ALT-DESC;FMTTYPE=text/html:2021/2022 Season &ldquo\;The best ballerinas at the moment are hairy and male.&rdquo\; &ndash\; London Spectator One of the great comic creations of the American stage\, this outrageous company of professional male dancers in drag brings their hilarious parody of classic ballet. These heavy muscular bodies delicately balance on toes as swans\, sylphs\, water sprites\, romantic princesses\, angst-ridden Victorian ladies - and surprisingly enhance the spirit of dance as an art form. The &ldquo\;Trocks\,&rdquo\; as they are affectionately known\, are sure to delight and amuse in this absurd and silly night of fun.
LOCATION:Chandler Center for the Arts 250 N. Arizona Avenue Chandler\, AZ 85225
UID:e.1561.40097
SEQUENCE:3
DTSTAMP:20260423T234040Z
URL:https://business.chandlerchamber.com/events/details/les-ballets-trockadero-de-monte-carlo-40097
END:VEVENT

END:VCALENDAR
