BEGIN:VCALENDAR
VERSION:2.0
PRODID:-//ChamberMaster//Event Calendar 2.0//EN
METHOD:PUBLISH
X-PUBLISHED-TTL:P3D
REFRESH-INTERVAL:P3D
CALSCALE:GREGORIAN
BEGIN:VEVENT
DTSTART:20180615T150000Z
DTEND:20180615T210000Z
X-MICROSOFT-CDO-ALLDAYEVENT:FALSE
SUMMARY:LifeQuest Blood Drive
DESCRIPTION:LifeQuest Physical Medicine and Rehab will be hosting a blood mobile blood drive on Friday\, June 15th from 8am-2pm. All donors will receive a FREE 30 minute massage\, compliments of LifeQuest. Contact Sarah at marketing@lifequestarizona.com to get scheduled!
X-ALT-DESC;FMTTYPE=text/html:LifeQuest Physical Medicine and Rehab will be hosting a blood mobile blood drive on Friday\, June 15th from 8am-2pm. All donors will receive a FREE 30 minute massage\, compliments of LifeQuest. Contact Sarah at marketing@lifequestarizona.com to get scheduled!
LOCATION:LifeQuest Physical Medicine & Rehab 1050 E. Ray Rd Ste 4A - Blood Mobile Chandler\, AZ 85225
UID:e.1561.33616
SEQUENCE:3
DTSTAMP:20260423T163419Z
URL:https://business.chandlerchamber.com/events/details/lifequest-blood-drive-33616
END:VEVENT

END:VCALENDAR
