BEGIN:VCALENDAR
VERSION:2.0
PRODID:-//ChamberMaster//Event Calendar 2.0//EN
METHOD:PUBLISH
X-PUBLISHED-TTL:P3D
REFRESH-INTERVAL:P3D
CALSCALE:GREGORIAN
BEGIN:VEVENT
DTSTART:20171117T000000Z
DTEND:20180103T050000Z
X-MICROSOFT-CDO-ALLDAYEVENT:FALSE
SUMMARY:Lights of the World
DESCRIPTION:The largest light and lantern festival in North America brightens the Downtown Phoenix skies November 16 through January 2 at the Arizona State Fairgrounds. Combining the age-old Chinese tradition of lanterns with cutting-edge technology and lights. The Lights of the World lantern displays extend from 18 to 60 feet\, showcasing features of different cultures and civilizations around the globe. With over 11 exhibits and 75 stunning displays\, Lights of the World promises an unforgettable exploration of global cultures and cuisine. Lights of the World also possesses a litany of other entertainment features\, carnival rides and games\, a daily performance showcasing acrobatics\, dance\, and music concerts.
X-ALT-DESC;FMTTYPE=text/html:The largest light and lantern festival in North America brightens the Downtown Phoenix skies November 16 through January 2 at the Arizona State Fairgrounds. Combining the age-old Chinese tradition of lanterns with cutting-edge technology and lights. The Lights of the World lantern displays extend from 18 to 60 feet\, showcasing features of different cultures and civilizations around the globe. With over 11 exhibits and 75 stunning displays\, Lights of the World promises an unforgettable exploration of global cultures and cuisine. Lights of the World also possesses a litany of other entertainment features\, carnival rides and games\, a daily performance showcasing acrobatics\, dance\, and music concerts.
LOCATION:Arizona State Fairgrounds 1826 W McDowell Rd Phoenix\, AZ 85007
UID:e.1561.19208
SEQUENCE:3
DTSTAMP:20260423T233158Z
URL:https://business.chandlerchamber.com/events/details/lights-of-the-world-19208
END:VEVENT

END:VCALENDAR
