BEGIN:VCALENDAR
VERSION:2.0
PRODID:-//ChamberMaster//Event Calendar 2.0//EN
METHOD:PUBLISH
X-PUBLISHED-TTL:P3D
REFRESH-INTERVAL:P3D
CALSCALE:GREGORIAN
BEGIN:VEVENT
DTSTART:20200805T013000Z
DTEND:20200805T030000Z
X-MICROSOFT-CDO-ALLDAYEVENT:FALSE
SUMMARY:Live with Seton - Virtual Open House
DESCRIPTION:Discover what Seton Catholic Preparatory has to offer at this special Virtual Open House event for Fall Admission. Register now to confirm your spot!
X-ALT-DESC;FMTTYPE=text/html:Discover what Seton Catholic Preparatory has to offer at this special Virtual Open House event for Fall Admission. Register now to confirm your spot!
LOCATION:Virtual Event Registration Link: http://www.setoncatholic.org/apps/form/openhouse8-4-20
UID:e.1561.39003
SEQUENCE:3
DTSTAMP:20260424T224056Z
URL:https://business.chandlerchamber.com/events/details/live-with-seton-virtual-open-house-39003
END:VEVENT

END:VCALENDAR
