BEGIN:VCALENDAR
VERSION:2.0
PRODID:-//ChamberMaster//Event Calendar 2.0//EN
METHOD:PUBLISH
X-PUBLISHED-TTL:P3D
REFRESH-INTERVAL:P3D
CALSCALE:GREGORIAN
BEGIN:VEVENT
DTSTART:20200618T170000Z
DTEND:20200618T180000Z
X-MICROSOFT-CDO-ALLDAYEVENT:FALSE
SUMMARY:Live Zoom Resource and Recovery Webinar and Q&A
DESCRIPTION:Please click the link below to join the webinar: \n\nhttps://zoom.us/j/91328584193?pwd=dytMKzdib2Q2TDd4Z2R5MGNZMEFMdz09\n\n \n\nWebinar ID: 913 2858 4193\n\nPassword: 226871\n\n10 am Arizona Time\n\nJoin us for a weekly update and Q&A session with local experts\, outlining how to access the programs and funds that are available for COVID-19 relief. \n\nMarketing During Turbulent Times: Learn how to market your business in the new normal. With information changing constantly\, what you created last month or even last week may not be relevant. Your words and tone matter. Learn to stay top-of-mind to your customers through the next phase of the resurgence of the local economy. Joel Coen\, Commit Agency wants to make sure you are living up to your brand promise. If you aren't sure what that means\, take time to review your current brand and ask if it is what is needed to be given our new reality. Find out your place in the world\, use search console to find out how you are found and ask how well you are performing and is it time for a thorough review.
X-ALT-DESC;FMTTYPE=text/html:<p><span style="color: black\; font-family: sans-serif\,Arial\,Verdana\,&amp\;quot\;Trebuchet MS&amp\;quot\;\; font-size: 13px\; font-style: normal\; font-variant: normal\; font-weight: 400\; letter-spacing: normal\; orphans: 2\; text-align: left\; text-decoration: none\; text-indent: 0px\; text-transform: none\; -webkit-text-stroke-width: 0px\; white-space: normal\; word-spacing: 0px\;"><span style="font-size: 12pt\;">Please click the link below to join the webinar: </span></span><br style="color: rgb(51\, 51\, 51)\; font-family: sans-serif\,Arial\,Verdana\,&amp\;quot\;Trebuchet MS&amp\;quot\;\; font-size: 13px\; font-style: normal\; font-variant: normal\; font-weight: 400\; letter-spacing: normal\; orphans: 2\; text-align: left\; text-decoration: none\; text-indent: 0px\; text-transform: none\; -webkit-text-stroke-width: 0px\; white-space: normal\; word-spacing: 0px\;" />\n<span style="color: black\; font-family: sans-serif\,Arial\,Verdana\,&amp\;quot\;Trebuchet MS&amp\;quot\;\; font-size: 13px\; font-style: normal\; font-variant: normal\; font-weight: 400\; letter-spacing: normal\; orphans: 2\; text-align: left\; text-decoration: none\; text-indent: 0px\; text-transform: none\; -webkit-text-stroke-width: 0px\; white-space: normal\; word-spacing: 0px\;"><a href="https://zoom.us/j/91328584193?pwd=dytMKzdib2Q2TDd4Z2R5MGNZMEFMdz09" style="color: rgb(7\, 130\, 193)\;">https://zoom.us/j/91328584193?pwd=dytMKzdib2Q2TDd4Z2R5MGNZMEFMdz09</a></span><br style="color: rgb(51\, 51\, 51)\; font-family: sans-serif\,Arial\,Verdana\,&amp\;quot\;Trebuchet MS&amp\;quot\;\; font-size: 13px\; font-style: normal\; font-variant: normal\; font-weight: 400\; letter-spacing: normal\; orphans: 2\; text-align: left\; text-decoration: none\; text-indent: 0px\; text-transform: none\; -webkit-text-stroke-width: 0px\; white-space: normal\; word-spacing: 0px\;" />\n<span style="display: inline !important\; float: none\; background-color: rgb(255\, 255\, 255)\; color: rgb(51\, 51\, 51)\; cursor: text\; font-family: sans-serif\,Arial\,Verdana\,&quot\;Trebuchet MS&quot\;\; font-size: 13px\; font-style: normal\; font-variant: normal\; font-weight: 400\; letter-spacing: normal\; line-height: 1.6\; orphans: 2\; text-align: left\; text-decoration: none\; text-indent: 0px\; text-transform: none\; -webkit-text-stroke-width: 0px\; white-space: normal\; word-spacing: 0px\;">&nbsp\;</span><br style="color: rgb(51\, 51\, 51)\; font-family: sans-serif\,Arial\,Verdana\,&amp\;quot\;Trebuchet MS&amp\;quot\;\; font-size: 13px\; font-style: normal\; font-variant: normal\; font-weight: 400\; letter-spacing: normal\; orphans: 2\; text-align: left\; text-decoration: none\; text-indent: 0px\; text-transform: none\; -webkit-text-stroke-width: 0px\; white-space: normal\; word-spacing: 0px\;" />\n<strong style="color: rgb(51\, 51\, 51)\; font-family: sans-serif\,Arial\,Verdana\,&amp\;quot\;Trebuchet MS&amp\;quot\;\; font-size: 13px\; font-style: normal\; font-variant: normal\; font-weight: 700\; letter-spacing: normal\; orphans: 2\; text-align: left\; text-decoration: none\; text-indent: 0px\; text-transform: none\; -webkit-text-stroke-width: 0px\; white-space: normal\; word-spacing: 0px\;"><span style="color: black\;"><span style="font-size: 12pt\;">Webinar ID: 913 2858 4193</span></span></strong><br style="color: rgb(51\, 51\, 51)\; font-family: sans-serif\,Arial\,Verdana\,&amp\;quot\;Trebuchet MS&amp\;quot\;\; font-size: 13px\; font-style: normal\; font-variant: normal\; font-weight: 400\; letter-spacing: normal\; orphans: 2\; text-align: left\; text-decoration: none\; text-indent: 0px\; text-transform: none\; -webkit-text-stroke-width: 0px\; white-space: normal\; word-spacing: 0px\;" />\n<strong style="color: rgb(51\, 51\, 51)\; font-family: sans-serif\,Arial\,Verdana\,&amp\;quot\;Trebuchet MS&amp\;quot\;\; font-size: 13px\; font-style: normal\; font-variant: normal\; font-weight: 700\; letter-spacing: normal\; orphans: 2\; text-align: left\; text-decoration: none\; text-indent: 0px\; text-transform: none\; -webkit-text-stroke-width: 0px\; white-space: normal\; word-spacing: 0px\;"><span style="color: black\;"><span style="font-size: 12pt\;">Password: 226871</span></span></strong><br />\n<span style="color:#0000FF\;"><span style="font-size:18px\;"><strong>10 am Arizona Time</strong></span></span></p>\n\n<p>Join us for a weekly update and Q&amp\;A session with local experts\, outlining how to access the programs and funds that are available for COVID-19 relief.&nbsp\;<br />\n<u><strong>Marketing During Turbulent Times: </strong></u>Learn how to market your business in the new normal. With information changing constantly\, what you created last month or even last week may not be relevant. Your words and tone matter. Learn to stay top-of-mind to your customers through the next phase of the resurgence of the local economy. Joel Coen\, Commit Agency wants to make sure you are living up to your brand promise. If you aren&#39\;t sure what that means\, take time to review your current brand and ask if it is what is needed to be given our new reality. Find out your place in the world\, use search console to find out how you are found and ask how well you are performing and is it time for a thorough review.</p>\n
LOCATION:Event will be held live on Zoom.
UID:e.1561.38963
SEQUENCE:3
DTSTAMP:20260425T145505Z
URL:https://business.chandlerchamber.com/events/details/live-zoom-q-a-with-the-sba-06-18-2020-38963
END:VEVENT

END:VCALENDAR
