BEGIN:VCALENDAR
VERSION:2.0
PRODID:-//ChamberMaster//Event Calendar 2.0//EN
METHOD:PUBLISH
X-PUBLISHED-TTL:P3D
REFRESH-INTERVAL:P3D
CALSCALE:GREGORIAN
BEGIN:VEVENT
DTSTART:20171101T160000Z
DTEND:20171101T180000Z
X-MICROSOFT-CDO-ALLDAYEVENT:FALSE
SUMMARY:LIVESTREAM with Google and Facebook: Reach Customers This Holiday Season
DESCRIPTION:Plan to host this special holiday workshop\, streamed live from Google HQ. To ensure businesses get the latest and greatest tips on prepping for the holiday season\, we're teaming up with the Small Business Administration\, Facebook\, Constant Contact\, and Square for this one-of-a-kind event. The livestream will include a live Q&A.
X-ALT-DESC;FMTTYPE=text/html:<p>Plan to host this special holiday workshop\, streamed live from Google HQ. To ensure businesses get the latest and greatest tips on prepping for the holiday season\, we&#39\;re teaming up with the Small Business Administration\, Facebook\, Constant Contact\, and Square for this one-of-a-kind event. The livestream will include a live Q&amp\;A.</p>\n
LOCATION:Chandler Chamber of Commerce office\, Desert Care Care Conference Room.
UID:e.1561.19189
SEQUENCE:3
DTSTAMP:20260424T022703Z
URL:https://business.chandlerchamber.com/events/details/livestream-with-google-and-facebook-reach-customers-this-holiday-season-19189
END:VEVENT

END:VCALENDAR
