BEGIN:VCALENDAR
VERSION:2.0
PRODID:-//ChamberMaster//Event Calendar 2.0//EN
METHOD:PUBLISH
X-PUBLISHED-TTL:P3D
REFRESH-INTERVAL:P3D
CALSCALE:GREGORIAN
BEGIN:VEVENT
DTSTART:20180621T163000Z
DTEND:20180621T210000Z
X-MICROSOFT-CDO-ALLDAYEVENT:FALSE
SUMMARY:Living with Dementia: Everyday Tools for Caregivers
DESCRIPTION:A half-day seminar on dementia caregiving will be offered at no cost to the community at Sun Lakes Country Club. Topics for discussion include connecting with a person with dementia\; care for the caregiver\; how to ease bathing and dressing\; and financing long-term care
X-ALT-DESC;FMTTYPE=text/html:A half-day seminar on dementia caregiving will be offered at no cost to the community at Sun Lakes Country Club. Topics for discussion include connecting with a person with dementia\; care for the caregiver\; how to ease bathing and dressing\; and financing long-term care
LOCATION:Sun Lakes Country Club 25601 S Sun Lakes Blvd
UID:e.1561.33672
SEQUENCE:3
DTSTAMP:20260423T163623Z
URL:https://business.chandlerchamber.com/events/details/living-with-dementia-everyday-tools-for-caregivers-33672
END:VEVENT

END:VCALENDAR
