BEGIN:VCALENDAR
VERSION:2.0
PRODID:-//ChamberMaster//Event Calendar 2.0//EN
METHOD:PUBLISH
X-PUBLISHED-TTL:P3D
REFRESH-INTERVAL:P3D
CALSCALE:GREGORIAN
BEGIN:VEVENT
DTSTART:20180924T020000Z
DTEND:20180924T053000Z
X-MICROSOFT-CDO-ALLDAYEVENT:FALSE
SUMMARY:Macy Gray
DESCRIPTION:A gifted songwriter and singer\, this Grammy Award-winning R&B and soul artist known for her distinctive raspy style has been overturning fan expectation and industry formula since kicking off her music career with her 1999 debut album\, On How Life Is. The album spawned the classic single\, "I Try\," making the single and the album massive global hits. Her career includes two Grammys\, two MTV Awards\, more than 15 million albums sold and a thriving acting career. - See more at: https://chandlercenter.org/events/search/jazz-rhythm-and-blues/272-macy-gray
X-ALT-DESC;FMTTYPE=text/html:A gifted songwriter and singer\, this Grammy Award-winning R&amp\;B and soul artist known for her distinctive raspy style has been overturning fan expectation and industry formula since kicking off her music career with her 1999 debut album\, On How Life Is. The album spawned the classic single\, &quot\;I Try\,&quot\; making the single and the album massive global hits. Her career includes two Grammys\, two MTV Awards\, more than 15 million albums sold and a thriving acting career. - See more at: https://chandlercenter.org/events/search/jazz-rhythm-and-blues/272-macy-gray
LOCATION:Chandler Center for the Arts\, 250 North Arizona Avenue\, Chandler\, AZ 85225
UID:e.1561.33926
SEQUENCE:3
DTSTAMP:20260423T124010Z
URL:https://business.chandlerchamber.com/events/details/macy-gray-33926
END:VEVENT

END:VCALENDAR
