BEGIN:VCALENDAR
VERSION:2.0
PRODID:-//ChamberMaster//Event Calendar 2.0//EN
METHOD:PUBLISH
X-PUBLISHED-TTL:P3D
REFRESH-INTERVAL:P3D
CALSCALE:GREGORIAN
BEGIN:VEVENT
DTSTART:20201120T230000Z
DTEND:20201121T020000Z
X-MICROSOFT-CDO-ALLDAYEVENT:FALSE
SUMMARY:Maker's Market
DESCRIPTION:Shop local! Come join us (local craft vendors) for a holiday shopping event. This event is created to support local artists and craft makers in our community. Lots of vendors available. Now is the time to start and finish your holiday shopping and gift giving all at the same time. For vending opportunities use contact information below. Sponsored by Patti and Larry Mamalis Power word Postcards and Kyle Timmons Office Evolution Phoenix
X-ALT-DESC;FMTTYPE=text/html:Shop local! Come join us (local craft vendors) for a holiday shopping event. This event is created to support local artists and craft makers in our community. Lots of vendors available. Now is the time to start and finish your holiday shopping and gift giving all at the same time. For vending opportunities use contact information below. Sponsored by Patti and Larry Mamalis Power word Postcards and Kyle Timmons Office Evolution Phoenix
LOCATION:Office Evolution Phoenix 4435 E Chandler Blvd Suite 200 Phoenix AZ 85048
UID:e.1561.39302
SEQUENCE:3
DTSTAMP:20260425T020005Z
URL:https://business.chandlerchamber.com/events/details/maker-s-market-39302
END:VEVENT

END:VCALENDAR
