BEGIN:VCALENDAR
VERSION:2.0
PRODID:-//ChamberMaster//Event Calendar 2.0//EN
METHOD:PUBLISH
X-PUBLISHED-TTL:P3D
REFRESH-INTERVAL:P3D
CALSCALE:GREGORIAN
BEGIN:VEVENT
DTSTART:20221113T023000Z
DTEND:20221113T043000Z
X-MICROSOFT-CDO-ALLDAYEVENT:FALSE
SUMMARY:Marc Broussard
DESCRIPTION:Channeling the spirits of classic R&B\, rock\, pop\, and funk\, Broussard belts out lyrics with an old-school soul vibe that has a contemporary sound. Rooted in a distinct Southern tone\, his expressive voice is deep and heartfelt. Close your eyes\, tap your foot and smile while he transports you with music that hits you in the middle of the chest.
X-ALT-DESC;FMTTYPE=text/html:Channeling the spirits of classic R&amp\;B\, rock\, pop\, and funk\, Broussard belts out lyrics with an old-school soul vibe that has a contemporary sound. Rooted in a distinct Southern tone\, his expressive voice is deep and heartfelt. Close your eyes\, tap your foot and smile while he transports you with music that hits you in the middle of the chest.
LOCATION:Chandler Center for the Arts
UID:e.1561.40953
SEQUENCE:3
DTSTAMP:20260423T200413Z
URL:https://business.chandlerchamber.com/events/details/marc-broussard-40953
END:VEVENT

END:VCALENDAR
