BEGIN:VCALENDAR
VERSION:2.0
PRODID:-//ChamberMaster//Event Calendar 2.0//EN
METHOD:PUBLISH
X-PUBLISHED-TTL:P3D
REFRESH-INTERVAL:P3D
CALSCALE:GREGORIAN
BEGIN:VEVENT
DTSTART:20220312T023000Z
DTEND:20220312T043000Z
X-MICROSOFT-CDO-ALLDAYEVENT:FALSE
SUMMARY:Marie Osmond
DESCRIPTION:Don't miss an evening with the one and only Marie Osmond. The iconic performer is guaranteed to wow audiences with Broadway tunes\, standards\, classics\, and even some opera   all accompanied by an orchestra. After an 11-year residency in Las Vegas\, Marie is touring the United States with her sell-out symphonic show. For almost six decades Marie Osmond has entertained millions all over the world through television\, radio\, film\, literature\, live concerts\, and Broadway performances. She is a multi-platinum\, multi-gold selling artist\, CMA winner\, Billboard chart-topper\, and three-time New York Times Bestselling author. Her Top 10 Billboard Magazine album "Music is Medicine" is the perfect setup for her "Unexpected" studio album (released in December 2021). It may just be her most important studio release\, encompassing a lifetime of experience\, music\, love\, loss\, hope\, and joy as a representation of her remarkable life. Marie continues to perform and raise money for children's hospitals\, research\, and awareness. She has influenced countless audiences and has benefited an innumerable amount of lives worldwide.
X-ALT-DESC;FMTTYPE=text/html:Don&rsquo\;t miss an evening with the one and only Marie Osmond. The iconic performer is guaranteed to wow audiences with Broadway tunes\, standards\, classics\, and even some opera &ndash\; all accompanied by an orchestra. After an 11-year residency in Las Vegas\, Marie is touring the United States with her sell-out symphonic show. For almost six decades Marie Osmond has entertained millions all over the world through television\, radio\, film\, literature\, live concerts\, and Broadway performances. She is a multi-platinum\, multi-gold selling artist\, CMA winner\, Billboard chart-topper\, and three-time New York Times Bestselling author. Her Top 10 Billboard Magazine album &ldquo\;Music is Medicine&rdquo\; is the perfect setup for her &ldquo\;Unexpected&rdquo\; studio album (released in December 2021). It may just be her most important studio release\, encompassing a lifetime of experience\, music\, love\, loss\, hope\, and joy as a representation of her remarkable life. Marie continues to perform and raise money for children&rsquo\;s hospitals\, research\, and awareness. She has influenced countless audiences and has benefited an innumerable amount of lives worldwide.
LOCATION:Chandler Center for the Arts 250 N. Arizona Avenue Chandler\, AZ 85225
UID:e.1561.40344
SEQUENCE:3
DTSTAMP:20260423T233859Z
URL:https://business.chandlerchamber.com/events/details/marie-osmond-40344
END:VEVENT

END:VCALENDAR
