BEGIN:VCALENDAR
VERSION:2.0
PRODID:-//ChamberMaster//Event Calendar 2.0//EN
METHOD:PUBLISH
X-PUBLISHED-TTL:P3D
REFRESH-INTERVAL:P3D
CALSCALE:GREGORIAN
BEGIN:VEVENT
DTSTART:20180112T010000Z
DTEND:20180112T030000Z
X-MICROSOFT-CDO-ALLDAYEVENT:FALSE
SUMMARY:Martin Gatrost: Pacific Crest Trail
DESCRIPTION:January 12   February 23\, 2018 Photographer\, avid backpacker and nature lover Martin Gatrost takes guests on his journey on the Pacific Crest Trail. Spanning from Mexico to Canada\, relive his adventure through photographs of three states\, seven national parks and 28 national forests. Join the Chandler Center for the Arts for an opening reception with the photographer on Thursday\, January 11\, 6   8 p.m. Chandler Center for the Arts Gallery is located at 250 N Arizona Avenue\, in Downtown Chandler. The Gallery is open Monday through Friday\, 10 a.m.-5 p.m.\, and Saturday\, 12 p.m.-5 p.m.\, and admission is always free. More information on this exhibition\, as well as talks related to the exhibition\, can be found at chandlercenter.org.
X-ALT-DESC;FMTTYPE=text/html:January 12 &ndash\; February 23\, 2018 Photographer\, avid backpacker and nature lover Martin Gatrost takes guests on his journey on the Pacific Crest Trail. Spanning from Mexico to Canada\, relive his adventure through photographs of three states\, seven national parks and 28 national forests. Join the Chandler Center for the Arts for an opening reception with the photographer on Thursday\, January 11\, 6 &ndash\; 8 p.m. Chandler Center for the Arts Gallery is located at 250 N Arizona Avenue\, in Downtown Chandler. The Gallery is open Monday through Friday\, 10 a.m.-5 p.m.\, and Saturday\, 12 p.m.-5 p.m.\, and admission is always free. More information on this exhibition\, as well as talks related to the exhibition\, can be found at chandlercenter.org.
LOCATION:Chandler Center for the Arts 250 North Arizona Avenue Chandler\, Arizona 85225
UID:e.1561.19632
SEQUENCE:3
DTSTAMP:20260423T233032Z
URL:https://business.chandlerchamber.com/events/details/martin-gatrost-pacific-crest-trail-19632
END:VEVENT

END:VCALENDAR
