BEGIN:VCALENDAR
VERSION:2.0
PRODID:-//ChamberMaster//Event Calendar 2.0//EN
METHOD:PUBLISH
X-PUBLISHED-TTL:P3D
REFRESH-INTERVAL:P3D
CALSCALE:GREGORIAN
BEGIN:VEVENT
DTSTART:20220911T023000Z
DTEND:20220911T043000Z
X-MICROSOFT-CDO-ALLDAYEVENT:FALSE
SUMMARY:Martina McBride
DESCRIPTION:Country music superstar Martina McBride is coming to Chandler! Nominated for 14 GRAMMYs and selling more than 23 million albums\, this "Happy Girl" has won more than 15 major awards for her music and her philanthropy. "A Broken Wing\," "Independence Day\," "Blessed\," and "Anyway" are just four of the 26 hit singles she has released\, maintaining her place as a major country artist. Her energy\, heart-filled songs\, and unwavering vibrant voice made her a rising star in the 90s and she has never come down since. Don't miss the chance to see this country icon live on the CCA main stage.
X-ALT-DESC;FMTTYPE=text/html:Country music superstar Martina McBride is coming to Chandler! Nominated for 14 GRAMMYs and selling more than 23 million albums\, this &ldquo\;Happy Girl&rdquo\; has won more than 15 major awards for her music and her philanthropy. &ldquo\;A Broken Wing\,&rdquo\; &ldquo\;Independence Day\,&rdquo\; &ldquo\;Blessed\,&rdquo\; and &ldquo\;Anyway&rdquo\; are just four of the 26 hit singles she has released\, maintaining her place as a major country artist. Her energy\, heart-filled songs\, and unwavering vibrant voice made her a rising star in the 90s and she has never come down since. Don&rsquo\;t miss the chance to see this country icon live on the CCA main stage.
LOCATION:Chandler Center for the Arts
UID:e.1561.40691
SEQUENCE:3
DTSTAMP:20260423T174937Z
URL:https://business.chandlerchamber.com/events/details/martina-mcbride-40691
END:VEVENT

END:VCALENDAR
