BEGIN:VCALENDAR
VERSION:2.0
PRODID:-//ChamberMaster//Event Calendar 2.0//EN
METHOD:PUBLISH
X-PUBLISHED-TTL:P3D
REFRESH-INTERVAL:P3D
CALSCALE:GREGORIAN
BEGIN:VEVENT
DTSTART:20200328T160000Z
DTEND:20200328T190000Z
X-MICROSOFT-CDO-ALLDAYEVENT:FALSE
SUMMARY:Mary Contreras State Farm Insurance Agent 19th Annual Spring Fling
DESCRIPTION:Bring your family for games\, food\, cookies\, and refreshments!\n\nFree windshield chip repair
X-ALT-DESC;FMTTYPE=text/html:Bring your family for games\, food\, cookies\, and refreshments!<br />\nFree windshield chip repair
LOCATION:Mary Contreras State Farm Insurance Agent 2145 E Warner Rd STE 101 Tempe\, AZ 85284
UID:e.1561.38923
SEQUENCE:3
DTSTAMP:20260424T163734Z
URL:https://business.chandlerchamber.com/events/details/mary-contreras-state-farm-insurance-agent-19th-annual-spring-fling-38923
END:VEVENT

END:VCALENDAR
