BEGIN:VCALENDAR
VERSION:2.0
PRODID:-//ChamberMaster//Event Calendar 2.0//EN
METHOD:PUBLISH
X-PUBLISHED-TTL:P3D
REFRESH-INTERVAL:P3D
CALSCALE:GREGORIAN
BEGIN:VEVENT
DTSTART:20150307T150000Z
DTEND:20150307T170000Z
X-MICROSOFT-CDO-ALLDAYEVENT:FALSE
SUMMARY:Mayor's Ostrich Festival 5K Fun Run/Walk 2015
DESCRIPTION:Join us for the Mayor's Ostrich Festival Fun Run!\n\n\n\n5K Fun Run/Walk Begins at 8:00 AM\n\n\n\nEach paid participant will receive a FREE T-shirt!\n\nPrizes will be awarded for 1st\,2nd\,3rd place (adults and kids)\n\n\n\nAll ages and abilities welcome and encouraged to join the fun!\n\n\n\n***Register online at www.4peaksracing.com
X-ALT-DESC;FMTTYPE=text/html:Join us for the Mayor&#39\;s Ostrich Festival Fun Run!<br />\n<br />\n5K Fun Run/Walk Begins at 8:00 AM<br />\n<br />\nEach paid participant will receive a FREE T-shirt!<br />\nPrizes will be awarded for 1st\,2nd\,3rd place (adults and kids)<br />\n<br />\nAll ages and abilities welcome and encouraged to join&nbsp\;the fun!<br />\n<br />\n***Register online at www.4peaksracing.com
LOCATION:Dr. A.J. Chandler Park Pavilion in Historic Downtown Chandler 3 S. Arizona Place Chandler\, AZ
UID:e.1561.12488
SEQUENCE:3
DTSTAMP:20260426T003210Z
URL:https://business.chandlerchamber.com/events/details/mayor-s-ostrich-festival-5k-fun-run-walk-03-07-2015-12488
END:VEVENT

END:VCALENDAR
