BEGIN:VCALENDAR
VERSION:2.0
PRODID:-//ChamberMaster//Event Calendar 2.0//EN
METHOD:PUBLISH
X-PUBLISHED-TTL:P3D
REFRESH-INTERVAL:P3D
CALSCALE:GREGORIAN
BEGIN:VEVENT
DTSTART:20150220T010000Z
DTEND:20150220T020000Z
X-MICROSOFT-CDO-ALLDAYEVENT:FALSE
SUMMARY:Mayor Tibshraeny's State of the City Address
DESCRIPTION:Mayor Tibshraeny's State of the City Address
X-ALT-DESC;FMTTYPE=text/html:Mayor Tibshraeny&#39\;s State of the City Address
LOCATION:Chandler City Hall 88. E Chicago Place Chandler\, AZ
UID:e.1561.12624
SEQUENCE:3
DTSTAMP:20260426T003440Z
URL:https://business.chandlerchamber.com/events/details/mayor-tibshraeny-s-state-of-the-city-address-02-19-2015-12624
END:VEVENT

END:VCALENDAR
