BEGIN:VCALENDAR
VERSION:2.0
PRODID:-//ChamberMaster//Event Calendar 2.0//EN
METHOD:PUBLISH
X-PUBLISHED-TTL:P3D
REFRESH-INTERVAL:P3D
CALSCALE:GREGORIAN
BEGIN:VEVENT
DTSTART:20180505T180000Z
DTEND:20180505T210000Z
X-MICROSOFT-CDO-ALLDAYEVENT:FALSE
SUMMARY:McDonald's Grand Re-Opening & Ribbon Cutting
DESCRIPTION:Join the ribbon cutting and grand reopening of the Warner/Dobson McDonald's in Chandler. New technology\, PlayPlace\, service\, comfortable and attractive interiors and new items to sample.
X-ALT-DESC;FMTTYPE=text/html:Join the ribbon cutting and grand reopening of the Warner/Dobson McDonald&#39\;s in Chandler. New technology\, PlayPlace\, service\, comfortable and attractive interiors and new items to sample.
LOCATION:1900 West Warner Rd.\, Chandler\, AZ 85224
UID:e.1561.33647
SEQUENCE:3
DTSTAMP:20260423T181127Z
URL:https://business.chandlerchamber.com/events/details/mcdonald-s-grand-re-opening-ribbon-cutting-33647
END:VEVENT

END:VCALENDAR
