BEGIN:VCALENDAR
VERSION:2.0
PRODID:-//ChamberMaster//Event Calendar 2.0//EN
METHOD:PUBLISH
X-PUBLISHED-TTL:P3D
REFRESH-INTERVAL:P3D
CALSCALE:GREGORIAN
BEGIN:VEVENT
DTSTART:20190714T023000Z
DTEND:20190714T043000Z
X-MICROSOFT-CDO-ALLDAYEVENT:FALSE
SUMMARY:Melissa Etheridge- The Medicine SHow
DESCRIPTION:Known for her confessional lyrics and smoky vocals\, Melissa Etheridge has remained one of America's favorite female singer-songwriters for more than two decades. She comes to Chandler to kick off our 30th Anniversary Season\, making a stop on her national tour. Join us for this evening of unforgettable songs and new music from her forthcoming album The Medicine Show\, out April 12th.
X-ALT-DESC;FMTTYPE=text/html:Known for her confessional lyrics and smoky vocals\, Melissa Etheridge has remained one of America&rsquo\;s favorite female singer-songwriters for more than two decades. She comes to Chandler to kick off our 30th Anniversary Season\, making a stop on her national tour. Join us for this evening of unforgettable songs and new music from her forthcoming album The Medicine Show\, out April 12th.
LOCATION:Chandler Center for the Arts 250 N Arizona Avenue Chandler\, AZ 85225
UID:e.1561.36678
SEQUENCE:3
DTSTAMP:20260422T230432Z
URL:https://business.chandlerchamber.com/events/details/melissa-etheridge-the-medicine-show-36678
END:VEVENT

END:VCALENDAR
