BEGIN:VCALENDAR
VERSION:2.0
PRODID:-//ChamberMaster//Event Calendar 2.0//EN
METHOD:PUBLISH
X-PUBLISHED-TTL:P3D
REFRESH-INTERVAL:P3D
CALSCALE:GREGORIAN
BEGIN:VEVENT
DTSTART:20220402T023000Z
DTEND:20220402T043000Z
X-MICROSOFT-CDO-ALLDAYEVENT:FALSE
SUMMARY:Meow Meow
DESCRIPTION:Post-post-modern diva Meow Meow has hypnotized and inspired audiences around the world with her operatic vocals and over-the-top theatrics. From New York to Berlin\, London to Sydney\, this sensational crowd-surfing tragi-comedienne specializes in Weimar repertoire and French chanson. Her award-winning solo work has been curated by the likes of David Bowie and Mikhail Baryshnikov. Her latest album\, Hotel Amour\, was recorded with Thomas M. Lauderdale of Pink Martini and features duets with Rufus Wainwright and The Von Trapps. Don't miss an evening that blends bawdy humor and beautiful music. If you're a fan of Storm Large or Pink Martini\, you will love Meow Meow!
X-ALT-DESC;FMTTYPE=text/html:Post-post-modern diva Meow Meow has hypnotized and inspired audiences around the world with her operatic vocals and over-the-top theatrics. From New York to Berlin\, London to Sydney\, this sensational crowd-surfing tragi-comedienne specializes in Weimar repertoire and French chanson. Her award-winning solo work has been curated by the likes of David Bowie and Mikhail Baryshnikov. Her latest album\, Hotel Amour\, was recorded with Thomas M. Lauderdale of Pink Martini and features duets with Rufus Wainwright and The Von Trapps. Don&rsquo\;t miss an evening that blends bawdy humor and beautiful music. If you&rsquo\;re a fan of Storm Large or Pink Martini\, you will love Meow Meow!
LOCATION:Chandler Center for the Arts 250 N. Arizona Avenue Chandler\, AZ 85225
UID:e.1561.40103
SEQUENCE:3
DTSTAMP:20260423T221711Z
URL:https://business.chandlerchamber.com/events/details/meow-meow-40103
END:VEVENT

END:VCALENDAR
