BEGIN:VCALENDAR
VERSION:2.0
PRODID:-//ChamberMaster//Event Calendar 2.0//EN
METHOD:PUBLISH
X-PUBLISHED-TTL:P3D
REFRESH-INTERVAL:P3D
CALSCALE:GREGORIAN
BEGIN:VEVENT
DTSTART:20170918T000000Z
DTEND:20170918T020000Z
X-MICROSOFT-CDO-ALLDAYEVENT:FALSE
SUMMARY:MERRYROSE BRIDAL
DESCRIPTION:Merryrose Bridal special hand made fashion show and Piano recital.
X-ALT-DESC;FMTTYPE=text/html:Merryrose Bridal special hand made fashion show and Piano recital.
LOCATION:1989 W Elliot Rd. #23 Chandler\, AZ. 85224
UID:e.1561.19096
SEQUENCE:3
DTSTAMP:20260424T050845Z
URL:https://business.chandlerchamber.com/events/details/merryrose-bridal-19096
END:VEVENT

END:VCALENDAR
