BEGIN:VCALENDAR
VERSION:2.0
PRODID:-//ChamberMaster//Event Calendar 2.0//EN
METHOD:PUBLISH
X-PUBLISHED-TTL:P3D
REFRESH-INTERVAL:P3D
CALSCALE:GREGORIAN
BEGIN:VEVENT
DTSTART:20241006T030000Z
DTEND:20241006T060000Z
X-MICROSOFT-CDO-ALLDAYEVENT:FALSE
SUMMARY:Mick Adams and the Stones (Rolling Stones tribute) at the We-Ko-Pa Casino Resort
DESCRIPTION:Start me up! You'll definitely get some satisfaction from this group Backstage Magazine dubbed one of the top ten tribute bands in the world. Mick Jagger doppelganger Mick Adam channels the famous singer's intense energy and legendary vocals in every performance. And with look-alike performers\, custom-made replica costumes and instruments\, detailed choreography and an amazing video show with each song\, it's not just a concert   it's an experience! Who said you can't always get what you want?\n\n \n\n21+ event
X-ALT-DESC;FMTTYPE=text/html:<span style="color:black">Start me up! You&rsquo\;ll definitely get some satisfaction from this group Backstage Magazine dubbed one of the top ten tribute bands in the world. Mick Jagger doppelganger Mick Adam channels the famous singer&rsquo\;s intense energy and legendary vocals in every performance. And with look-alike performers\, custom-made replica costumes and instruments\, detailed choreography and an amazing video show with each song\, it&rsquo\;s not just a concert &ndash\; it&rsquo\;s an experience! Who said you can&rsquo\;t always get what you want?</span><br />\n&nbsp\;<br />\n<span style="color:black">21+ event </span><br />\n&nbsp\;
LOCATION:We-Ko-Pa Casino Resort We-Ko-Pa Conference Center 10438 Wekopa Way\, Fort McDowell\, AZ 85264 www.wekopacasinoresort.com/entertainment 480/789-4957
UID:e.1561.50650
SEQUENCE:3
DTSTAMP:20260420T113051Z
URL:https://business.chandlerchamber.com/events/details/mick-adams-and-the-stones-rolling-stones-tribute-at-the-we-ko-pa-casino-resort-50650
END:VEVENT

END:VCALENDAR
