BEGIN:VCALENDAR
VERSION:2.0
PRODID:-//ChamberMaster//Event Calendar 2.0//EN
METHOD:PUBLISH
X-PUBLISHED-TTL:P3D
REFRESH-INTERVAL:P3D
CALSCALE:GREGORIAN
BEGIN:VEVENT
DTSTART:20180104T173000Z
DTEND:20180104T193000Z
X-MICROSOFT-CDO-ALLDAYEVENT:FALSE
SUMMARY:Mid Mornin' Cup of Joey
DESCRIPTION:C'mon by for your morning cup of joe and a little networking (Aussie style) at Mary Contreras' office!
X-ALT-DESC;FMTTYPE=text/html:C&#39\;mon by for your morning cup of joe and a little networking (Aussie style) at Mary Contreras&#39\; office!
LOCATION:2145 E Warner Rd\, Tempe
UID:e.1561.20693
SEQUENCE:3
DTSTAMP:20260423T233447Z
URL:https://business.chandlerchamber.com/events/details/mid-mornin-cup-of-joey-01-04-2018-20693
END:VEVENT

END:VCALENDAR
