BEGIN:VCALENDAR
VERSION:2.0
PRODID:-//ChamberMaster//Event Calendar 2.0//EN
METHOD:PUBLISH
X-PUBLISHED-TTL:P3D
REFRESH-INTERVAL:P3D
CALSCALE:GREGORIAN
BEGIN:VEVENT
DTSTART:20180118T173000Z
DTEND:20180118T193000Z
X-MICROSOFT-CDO-ALLDAYEVENT:FALSE
SUMMARY:Mid Mornin' Cup of Joey
DESCRIPTION:Come join us at Mary Contreras' office! Enjoy a delicious cup of Australian coffee and do a little networking in the sun!
X-ALT-DESC;FMTTYPE=text/html:Come join us at Mary Contreras&#39\; office! Enjoy a delicious cup of Australian coffee and do a little networking in the sun!
LOCATION:2145 E Warner Rd Tempe\, AZ 85284
UID:e.1561.20907
SEQUENCE:3
DTSTAMP:20260423T233447Z
URL:https://business.chandlerchamber.com/events/details/mid-mornin-cup-of-joey-01-18-2018-20907
END:VEVENT

END:VCALENDAR
