BEGIN:VCALENDAR
VERSION:2.0
PRODID:-//ChamberMaster//Event Calendar 2.0//EN
METHOD:PUBLISH
X-PUBLISHED-TTL:P3D
REFRESH-INTERVAL:P3D
CALSCALE:GREGORIAN
BEGIN:VEVENT
DTSTART:20171221T173000Z
DTEND:20171221T193000Z
X-MICROSOFT-CDO-ALLDAYEVENT:FALSE
SUMMARY:Mid Mornin' Cup of Joey
DESCRIPTION:C'mon down and join the Down Under Foods team at Ozzy the coffee & food truck for your morning "Cup of Joey" at Mary Contreras' office at Warner Rd & the 101! All welcome! We've got Australian espresso\, cold brew\, infused waters and a whole lot more!
X-ALT-DESC;FMTTYPE=text/html:C&#39\;mon down and join the Down Under Foods team at Ozzy the coffee &amp\; food truck for your morning &quot\;Cup of Joey&quot\; at Mary Contreras&#39\; office at Warner Rd &amp\; the 101! All welcome! We&#39\;ve got Australian espresso\, cold brew\, infused waters and a whole lot more!
LOCATION:2145 E Warner Rd\, Ste 101\, Tempe\, Arizona 85284
UID:e.1561.20485
SEQUENCE:3
DTSTAMP:20260424T011424Z
URL:https://business.chandlerchamber.com/events/details/mid-mornin-cup-of-joey-20485
END:VEVENT

END:VCALENDAR
