BEGIN:VCALENDAR
VERSION:2.0
PRODID:-//ChamberMaster//Event Calendar 2.0//EN
METHOD:PUBLISH
X-PUBLISHED-TTL:P3D
REFRESH-INTERVAL:P3D
CALSCALE:GREGORIAN
BEGIN:VEVENT
DTSTART:20171028T233000Z
DTEND:20171029T020000Z
X-MICROSOFT-CDO-ALLDAYEVENT:FALSE
SUMMARY:Midnight at the Masquerade
DESCRIPTION:The Experts in Mystery Entertainment are now performing live public and private interactive murder mystery dinner shows in Phoenix and surrounding areas throughout Arizona. Join us for a night of intrigue\, deception\, and delicious food in this comedic thriller!
X-ALT-DESC;FMTTYPE=text/html:The Experts in Mystery Entertainment are now performing live public and private interactive murder mystery dinner shows in Phoenix and surrounding areas throughout Arizona. Join us for a night of intrigue\, deception\, and delicious food in this comedic thriller!
LOCATION:THE OLD SPAGHETTI FACTORY 3155 W. Chandler Blvd.\, Chandler\, AZ 85226
UID:e.1561.19147
SEQUENCE:3
DTSTAMP:20260424T034319Z
URL:https://business.chandlerchamber.com/events/details/midnight-at-the-masquerade-19147
END:VEVENT

END:VCALENDAR
