BEGIN:VCALENDAR
VERSION:2.0
PRODID:-//ChamberMaster//Event Calendar 2.0//EN
METHOD:PUBLISH
X-PUBLISHED-TTL:P3D
REFRESH-INTERVAL:P3D
CALSCALE:GREGORIAN
BEGIN:VEVENT
DTSTART:20230102T150000Z
DTEND:20230102T160000Z
X-MICROSOFT-CDO-ALLDAYEVENT:FALSE
SUMMARY:MiEN Innovation Event
DESCRIPTION:Join MiEN's Dr. Christina Counts for a journey into the future of school\, business\, social\, and home furniture that continues to blend smart design\, durable materials\, and fun.
X-ALT-DESC;FMTTYPE=text/html:Join MiEN&rsquo\;s Dr. Christina Counts for a journey into the future of school\, business\, social\, and home furniture that continues to blend smart design\, durable materials\, and fun.
LOCATION:MiEN - Virtual
UID:e.1561.40590
SEQUENCE:3
DTSTAMP:20260420T215831Z
URL:https://business.chandlerchamber.com/events/details/mien-innovation-event-40590
END:VEVENT

END:VCALENDAR
